BEGIN:VCALENDAR
VERSION:2.0
PRODID:-//Nes Sykkelklubb - ECPv6.15.20//NONSGML v1.0//EN
CALSCALE:GREGORIAN
METHOD:PUBLISH
X-WR-CALNAME:Nes Sykkelklubb
X-ORIGINAL-URL:https://www.nes-sykkelklubb.no
X-WR-CALDESC:Arrangement for Nes Sykkelklubb
REFRESH-INTERVAL;VALUE=DURATION:PT1H
X-Robots-Tag:noindex
X-PUBLISHED-TTL:PT1H
BEGIN:VTIMEZONE
TZID:Europe/Oslo
BEGIN:DAYLIGHT
TZOFFSETFROM:+0100
TZOFFSETTO:+0200
TZNAME:CEST
DTSTART:20240331T010000
END:DAYLIGHT
BEGIN:STANDARD
TZOFFSETFROM:+0200
TZOFFSETTO:+0100
TZNAME:CET
DTSTART:20241027T010000
END:STANDARD
BEGIN:DAYLIGHT
TZOFFSETFROM:+0100
TZOFFSETTO:+0200
TZNAME:CEST
DTSTART:20250330T010000
END:DAYLIGHT
BEGIN:STANDARD
TZOFFSETFROM:+0200
TZOFFSETTO:+0100
TZNAME:CET
DTSTART:20251026T010000
END:STANDARD
BEGIN:DAYLIGHT
TZOFFSETFROM:+0100
TZOFFSETTO:+0200
TZNAME:CEST
DTSTART:20260329T010000
END:DAYLIGHT
BEGIN:STANDARD
TZOFFSETFROM:+0200
TZOFFSETTO:+0100
TZNAME:CET
DTSTART:20261025T010000
END:STANDARD
END:VTIMEZONE
BEGIN:VEVENT
DTSTART;TZID=Europe/Oslo:20251013T180000
DTEND;TZID=Europe/Oslo:20251013T200000
DTSTAMP:20260421T164201
CREATED:20250427T061957Z
LAST-MODIFIED:20250427T061957Z
UID:724-1760378400-1760385600@www.nes-sykkelklubb.no
SUMMARY:Årsavslutning med premiering Nes Cup
DESCRIPTION:Vi gjennomfører årsavslutning med premiering Nes Cup
URL:https://www.nes-sykkelklubb.no/event/arsavslutning-med-premiering-nes-cup/
LOCATION:Nes Ski og Sykkelanlegg\, Kampåvegen 248\, Fenstad\, Nes\, 2170\, Norway
END:VEVENT
END:VCALENDAR